BEGIN:VCALENDAR
VERSION:2.0
PRODID:-//La Palette des Possibles - ECPv5.7.1//NONSGML v1.0//EN
CALSCALE:GREGORIAN
METHOD:PUBLISH
X-WR-CALNAME:La Palette des Possibles
X-ORIGINAL-URL:https://www.lapalettedespossibles.com
X-WR-CALDESC:évènements pour La Palette des Possibles
BEGIN:VTIMEZONE
TZID:Europe/Paris
BEGIN:DAYLIGHT
TZOFFSETFROM:+0100
TZOFFSETTO:+0200
TZNAME:CEST
DTSTART:20190331T010000
END:DAYLIGHT
BEGIN:STANDARD
TZOFFSETFROM:+0200
TZOFFSETTO:+0100
TZNAME:CET
DTSTART:20191027T010000
END:STANDARD
END:VTIMEZONE
BEGIN:VEVENT
DTSTART;TZID=Europe/Paris:20190216T100000
DTEND;TZID=Europe/Paris:20190216T170000
DTSTAMP:20260425T225408
CREATED:20181017T152335Z
LAST-MODIFIED:20190121T163241Z
UID:1334-1550311200-1550336400@www.lapalettedespossibles.com
SUMMARY:Un atelier comme un voyage  « à la manière des aborigènes d'Australie » sur des sons et musiques traditionnels (didgeridoo)\, animé par N. Congard
DESCRIPTION:« C’est un coup à prendre » et puis on part dans un voyage intérieur à travers des gestes précis\, répétitifs\, chacun dans son propre rythme à travers les formes\, les couleurs\, faisant écho aux vibrations des sons. \nTransmission d’un petit abécédaire graphique nous reliant au peuple aborigène d’Australie. \nElaboration d’une oeuvre personnelle. \n  \nMatériel fourni par l’intervenante : support bois\, écorce (photo) ou ardoise\, selon la récolte ; peinture laque et récipients de récupération ; chiffons ; musique \nMatériel à fournir : papier dessin pour recherches  \nTarifs : 25 euros pour les adhérents / 35 euros pour les non-adhérents – Renseignements et inscriptions : 05.62.83.99.48 / 06.25.60.20.65
URL:https://www.lapalettedespossibles.com/evenement/atelier-encadre-5/
LOCATION:Atelier-galerie La Palette des Possibles\, 9 avenue de Lombez\, Toulouse\, 31300\, France
CATEGORIES:Atelier encadré
ATTACH;FMTTYPE=image/jpeg:https://www.lapalettedespossibles.com/wp-content/uploads/2018/10/visuel-site-1.jpg
ORGANIZER;CN="Association%20La%20Palette%20des%20Possibles":MAILTO:lapalettedespossibles@gmail.com
END:VEVENT
END:VCALENDAR