BEGIN:VCALENDAR
VERSION:2.0
PRODID:-//La Palette des Possibles - ECPv5.7.1//NONSGML v1.0//EN
CALSCALE:GREGORIAN
METHOD:PUBLISH
X-WR-CALNAME:La Palette des Possibles
X-ORIGINAL-URL:https://www.lapalettedespossibles.com
X-WR-CALDESC:évènements pour La Palette des Possibles
BEGIN:VTIMEZONE
TZID:Europe/Paris
BEGIN:DAYLIGHT
TZOFFSETFROM:+0100
TZOFFSETTO:+0200
TZNAME:CEST
DTSTART:20190331T010000
END:DAYLIGHT
BEGIN:STANDARD
TZOFFSETFROM:+0200
TZOFFSETTO:+0100
TZNAME:CET
DTSTART:20191027T010000
END:STANDARD
END:VTIMEZONE
BEGIN:VEVENT
DTSTART;TZID=Europe/Paris:20190220T000000
DTEND;TZID=Europe/Paris:20190220T000000
DTSTAMP:20260425T165811
CREATED:20181231T160329Z
LAST-MODIFIED:20190218T123707Z
UID:1698-1550620800-1550620800@www.lapalettedespossibles.com
SUMMARY:Conférence Il Caravaggio\, un soleil noir
DESCRIPTION:Conférence animée par Jacqueline Dubrulle \n« un soleil noir »\, idée empruntée au livre d’Andrea Camilleri « Il colore del sole » (La couleur du soleil). \nMichel-Angelo Merisi dit Il Caravaggio\, l’homme qui introduisit un courant révolutionnaire dans la peinture de la Renaissance par le réalisme et la violence de son clair-obscur. Un grand metteur en scène bien avant la naissance du cinéma.
URL:https://www.lapalettedespossibles.com/evenement/conference-caravaggio/
LOCATION:Atelier-galerie La Palette des Possibles\, 9 avenue de Lombez\, Toulouse\, 31300\, France
CATEGORIES:Conférences
ATTACH;FMTTYPE=image/jpeg:https://www.lapalettedespossibles.com/wp-content/uploads/2018/12/complet-site.jpg
ORGANIZER;CN="Association%20La%20Palette%20des%20Possibles":MAILTO:lapalettedespossibles@gmail.com
END:VEVENT
END:VCALENDAR