BEGIN:VCALENDAR
VERSION:2.0
PRODID:-//La Palette des Possibles - ECPv5.7.1//NONSGML v1.0//EN
CALSCALE:GREGORIAN
METHOD:PUBLISH
X-WR-CALNAME:La Palette des Possibles
X-ORIGINAL-URL:https://www.lapalettedespossibles.com
X-WR-CALDESC:évènements pour La Palette des Possibles
BEGIN:VTIMEZONE
TZID:Europe/Paris
BEGIN:DAYLIGHT
TZOFFSETFROM:+0100
TZOFFSETTO:+0200
TZNAME:CEST
DTSTART:20250330T010000
END:DAYLIGHT
BEGIN:STANDARD
TZOFFSETFROM:+0200
TZOFFSETTO:+0100
TZNAME:CET
DTSTART:20251026T010000
END:STANDARD
END:VTIMEZONE
BEGIN:VEVENT
DTSTART;VALUE=DATE:20250705
DTEND;VALUE=DATE:20250707
DTSTAMP:20260425T170322
CREATED:20250617T182231Z
LAST-MODIFIED:20250617T182312Z
UID:10001-1751673600-1751846399@www.lapalettedespossibles.com
SUMMARY:Cyanotype & Aquarelle (ou gouache)\, atelier animé par JL Aribaud et B Richard
DESCRIPTION:samedi 5 et dimanche 6 juillet de 10h à 17h \nCe stage propose une initiation à la pratique du cyanotype  \npar la réalisation d’un contretype de qualité sur transparent.  \nLes participant·es expérimenteront ensuite la mise en couleur à l’aquarelle et/ou à la gouache de ce support dans une approche plasticienne associant technique et expression artistique personnelle. \nMatériel fourni : produit pour cyanotype – papier – transparents \nMatériel à apporter : aquarelle et/ou gouache – images (photos) \nTarifs : 80€ pour les adhérents – 100€ pour les non-adhérents \nRenseignements et inscriptions : lapalettedespossibles@gmail.com – 06.25.60.20.65 \n 
URL:https://www.lapalettedespossibles.com/evenement/cyanotype-aquarelle-ou-gouache-atelier-anime-par-jl-aribaud-et-b-richard/
LOCATION:Atelier-galerie La Palette des Possibles\, 9 avenue de Lombez\, Toulouse\, 31300\, France
CATEGORIES:Atelier encadré
ATTACH;FMTTYPE=image/jpeg:https://www.lapalettedespossibles.com/wp-content/uploads/2025/06/image_stage.jpg
ORGANIZER;CN="Association%20La%20Palette%20des%20Possibles":MAILTO:lapalettedespossibles@gmail.com
END:VEVENT
END:VCALENDAR