BEGIN:VCALENDAR
VERSION:2.0
PRODID:-//La Palette des Possibles - ECPv5.7.1//NONSGML v1.0//EN
CALSCALE:GREGORIAN
METHOD:PUBLISH
X-WR-CALNAME:La Palette des Possibles
X-ORIGINAL-URL:https://www.lapalettedespossibles.com
X-WR-CALDESC:évènements pour La Palette des Possibles
BEGIN:VTIMEZONE
TZID:Europe/Paris
BEGIN:DAYLIGHT
TZOFFSETFROM:+0100
TZOFFSETTO:+0200
TZNAME:CEST
DTSTART:20250330T010000
END:DAYLIGHT
BEGIN:STANDARD
TZOFFSETFROM:+0200
TZOFFSETTO:+0100
TZNAME:CET
DTSTART:20251026T010000
END:STANDARD
END:VTIMEZONE
BEGIN:VEVENT
DTSTART;VALUE=DATE:20250902
DTEND;VALUE=DATE:20250908
DTSTAMP:20260425T131843
CREATED:20250830T114119Z
LAST-MODIFIED:20250830T114119Z
UID:10167-1756771200-1757289599@www.lapalettedespossibles.com
SUMMARY:encore quelques jours pour Framboise...
DESCRIPTION:
URL:https://www.lapalettedespossibles.com/evenement/encore-quelques-jours-pour-framboise/
LOCATION:Atelier-galerie La Palette des Possibles\, 9 avenue de Lombez\, Toulouse\, 31300\, France
CATEGORIES:exposition
ORGANIZER;CN="Association%20La%20Palette%20des%20Possibles":MAILTO:lapalettedespossibles@gmail.com
END:VEVENT
END:VCALENDAR