BEGIN:VCALENDAR
VERSION:2.0
PRODID:-//La Palette des Possibles - ECPv5.7.1//NONSGML v1.0//EN
CALSCALE:GREGORIAN
METHOD:PUBLISH
X-WR-CALNAME:La Palette des Possibles
X-ORIGINAL-URL:https://www.lapalettedespossibles.com
X-WR-CALDESC:évènements pour La Palette des Possibles
BEGIN:VTIMEZONE
TZID:Europe/Paris
BEGIN:DAYLIGHT
TZOFFSETFROM:+0100
TZOFFSETTO:+0200
TZNAME:CEST
DTSTART:20190331T010000
END:DAYLIGHT
BEGIN:STANDARD
TZOFFSETFROM:+0200
TZOFFSETTO:+0100
TZNAME:CET
DTSTART:20191027T010000
END:STANDARD
END:VTIMEZONE
BEGIN:VEVENT
DTSTART;TZID=Europe/Paris:20190304T100000
DTEND;TZID=Europe/Paris:20190329T180000
DTSTAMP:20260424T232404
CREATED:20190218T125819Z
LAST-MODIFIED:20190218T125819Z
UID:1898-1551693600-1553882400@www.lapalettedespossibles.com
SUMMARY:Exposition Jean-Marie Viaud\, photographies & Bruno Renard\, sculptures
DESCRIPTION:
URL:https://www.lapalettedespossibles.com/evenement/exposition-jean-marie-viaud-photographies-bruno-renard-sculptures/
LOCATION:Atelier-galerie La Palette des Possibles\, 9 avenue de Lombez\, Toulouse\, 31300\, France
CATEGORIES:Conférences
ATTACH;FMTTYPE=image/jpeg:https://www.lapalettedespossibles.com/wp-content/uploads/2019/02/visuel-vf-site.jpg
ORGANIZER;CN="Association%20La%20Palette%20des%20Possibles":MAILTO:lapalettedespossibles@gmail.com
END:VEVENT
END:VCALENDAR