BEGIN:VCALENDAR
VERSION:2.0
PRODID:-//La Palette des Possibles - ECPv5.7.1//NONSGML v1.0//EN
CALSCALE:GREGORIAN
METHOD:PUBLISH
X-WR-CALNAME:La Palette des Possibles
X-ORIGINAL-URL:https://www.lapalettedespossibles.com
X-WR-CALDESC:évènements pour La Palette des Possibles
BEGIN:VTIMEZONE
TZID:Europe/Paris
BEGIN:DAYLIGHT
TZOFFSETFROM:+0100
TZOFFSETTO:+0200
TZNAME:CEST
DTSTART:20240331T010000
END:DAYLIGHT
BEGIN:STANDARD
TZOFFSETFROM:+0200
TZOFFSETTO:+0100
TZNAME:CET
DTSTART:20241027T010000
END:STANDARD
END:VTIMEZONE
BEGIN:VEVENT
DTSTART;VALUE=DATE:20241002
DTEND;VALUE=DATE:20241028
DTSTAMP:20260422T121706
CREATED:20240921T124648Z
LAST-MODIFIED:20240921T124648Z
UID:9054-1727827200-1730073599@www.lapalettedespossibles.com
SUMMARY:ENTREFEUILLES - PAPIERS PEINTS / DESSINS - Béatrice Aklijeanne
DESCRIPTION:
URL:https://www.lapalettedespossibles.com/evenement/entrefeuilles-papiers-peints-dessins-beatrice-aklijeanne/
LOCATION:Atelier-galerie La Palette des Possibles\, 9 avenue de Lombez\, Toulouse\, 31300\, France
CATEGORIES:exposition
ATTACH;FMTTYPE=image/jpeg:https://www.lapalettedespossibles.com/wp-content/uploads/2024/09/essai4-1.jpg
ORGANIZER;CN="Association%20La%20Palette%20des%20Possibles":MAILTO:lapalettedespossibles@gmail.com
END:VEVENT
BEGIN:VEVENT
DTSTART;TZID=Europe/Paris:20241026T100000
DTEND;TZID=Europe/Paris:20241026T170000
DTSTAMP:20260422T121706
CREATED:20240921T125042Z
LAST-MODIFIED:20241011T135717Z
UID:9057-1729936800-1729962000@www.lapalettedespossibles.com
SUMMARY:"Feuilles pochées en chemise" - atelier animé par Béatrice Aklijeanne
DESCRIPTION:En explorant et jouant avec le pochoir\, on réalisera une sorte de papier peint/tissu à motifs qui pourra se transformer en Origami chemise. \nMatériel à prévoir \nPeintures acryliques\, palette (genre assiette)\, feutres\, crayons de couleur – Pinceaux plats (brosse) – Ciseaux\, cutter\, couteau lisse ou plioir – Vieille radio ou papier fin cartonné (pour le pochoir) – Papier blanc pour essai format A3 – Papier kraft blanc pour le pliage dimension minimale 50X80cm \nTarif : 30 € pour les adhérents – 40 € pour les non-adhérents \nRenseignements / inscriptions : 06.25.60.20.65/05.62.83.99.48 – lapalettedespossibles@gmail.com
URL:https://www.lapalettedespossibles.com/evenement/feuilles-pochees-en-chemise-atelier-anime-par-beatrice-aklijeanne/
LOCATION:Atelier-galerie La Palette des Possibles\, 9 avenue de Lombez\, Toulouse\, 31300\, France
CATEGORIES:Atelier encadré
ATTACH;FMTTYPE=image/jpeg:https://www.lapalettedespossibles.com/wp-content/uploads/2024/09/IMG_20240804_140654.jpg
ORGANIZER;CN="Association%20La%20Palette%20des%20Possibles":MAILTO:lapalettedespossibles@gmail.com
END:VEVENT
END:VCALENDAR