BEGIN:VCALENDAR
VERSION:2.0
PRODID:-//La Palette des Possibles - ECPv5.7.1//NONSGML v1.0//EN
CALSCALE:GREGORIAN
METHOD:PUBLISH
X-WR-CALNAME:La Palette des Possibles
X-ORIGINAL-URL:https://www.lapalettedespossibles.com
X-WR-CALDESC:évènements pour La Palette des Possibles
BEGIN:VTIMEZONE
TZID:Europe/Paris
BEGIN:DAYLIGHT
TZOFFSETFROM:+0100
TZOFFSETTO:+0200
TZNAME:CEST
DTSTART:20240331T010000
END:DAYLIGHT
BEGIN:STANDARD
TZOFFSETFROM:+0200
TZOFFSETTO:+0100
TZNAME:CET
DTSTART:20241027T010000
END:STANDARD
END:VTIMEZONE
BEGIN:VEVENT
DTSTART;VALUE=DATE:20241029
DTEND;VALUE=DATE:20241130
DTSTAMP:20260423T205217
CREATED:20241022T090946Z
LAST-MODIFIED:20241130T085705Z
UID:9196-1730160000-1732924799@www.lapalettedespossibles.com
SUMMARY:Le musée\, c'est cliché ? - exposition photographique de Dominique Astoul
DESCRIPTION:
URL:https://www.lapalettedespossibles.com/evenement/le-musee-cest-cliche-exposition-photographique-de-dominique-astoul/
LOCATION:Atelier-galerie La Palette des Possibles\, 9 avenue de Lombez\, Toulouse\, 31300\, France
CATEGORIES:exposition
ATTACH;FMTTYPE=image/jpeg:https://www.lapalettedespossibles.com/wp-content/uploads/2024/10/affiche-w.jpg
ORGANIZER;CN="Association%20La%20Palette%20des%20Possibles":MAILTO:lapalettedespossibles@gmail.com
END:VEVENT
BEGIN:VEVENT
DTSTART;TZID=Europe/Paris:20241116T100000
DTEND;TZID=Europe/Paris:20241116T170000
DTSTAMP:20260423T205217
CREATED:20240921T125231Z
LAST-MODIFIED:20241107T164042Z
UID:9061-1731751200-1731776400@www.lapalettedespossibles.com
SUMMARY:COMPLET - "Souvenir" - atelier collagraphie\, animé par Evelyne Maubert
DESCRIPTION: Explorer les souvenirs et les émotions en jouant avec les découpes\, grattages\, collages\, rainurages\, encrage. \nLe vocabulaire pourra être abstrait ou figuratif\, doux\, joyeux\, étrange\, puissant\, symbolique\, poétique. \nLibre à chacun de nous de vagabonder ou de partir d’une image ou d’un souvenir précis. \n A partir d’un matériau aussi simple que le carton\, nous délimiterons un espace d’investigation afin d’en constituer une intime matrice. \nNous explorerons les superpositions\, les traces\, les jeux de matières crées par la colle et autres matériaux utilisés. \nLa matrice finale sera encrée et imprimée sur papier au passage de la presse. \nMatériel fourni : carton gris\, papier de soie\, tarlatane\, gomme laque\, papier pour la réalisation finale\, colle vinylique\, encre à l’eau de gravure\, feuilles papier \nMatériel à apporter : cutter\, ciseau\, scalpel\, crayons\, gomme\, gants\, tablier\, chiffons\, documentation personnelle\, ficelle et tissus avec effets pour les participants voulant tester des matières \nTarif : 25 € pour les adhérents – 35€ pour les non-adhérents + 8€ pour le matériel \nRenseignements / inscriptions : 06.25.60.20.65/05.62.83.99.48 – lapalettedespossibles@gmail.com
URL:https://www.lapalettedespossibles.com/evenement/atelier-collagraphie-anime-par-evelyne-maubert/
LOCATION:Atelier-galerie La Palette des Possibles\, 9 avenue de Lombez\, Toulouse\, 31300\, France
CATEGORIES:Atelier encadré
ATTACH;FMTTYPE=image/jpeg:https://www.lapalettedespossibles.com/wp-content/uploads/2024/09/souvenir.jpg
ORGANIZER;CN="Association%20La%20Palette%20des%20Possibles":MAILTO:lapalettedespossibles@gmail.com
END:VEVENT
END:VCALENDAR